Workbook
Name Before_you_start: Instructions!$B$6
Name Colour_coding: Instructions!$B$51
Name Countries: lists!$F$2:$F$3
Name duration: lists!$B$2:$B$7
Name Duties: lists!$H$2:$H$4
Name DutiesIF: lists!$J$2:$J$4
Name Entering_data: Instructions!$B$39
Name Form_Completed_Message: error!$D$8
Name Form_Start: error!$C$9
Name H_Fin: lists!$T$4
Name H_LP_man: lists!$T$2
Name H_Other: lists!$T$5
Name H_PP_man: lists!$T$3
Name How_to_fill_in_the_form: Instructions!$B$22
Name YN: lists!$L$2:$L$3
Name YNif: lists!$N$2:$N$3
Name Peri_Duration: Timesheet!$G$7
Name Peri_End2: Timesheet!$AD$7
Name Peri_Start: Timesheet!$J$7
Name Peri_Start2: Timesheet!$AC$7
Name Period: lists!$A$2:$A$9
Name Period_No: Timesheet!$E$7
Name Pos1_duties: Timesheet!$H$15
Name Pos2_duties: Timesheet!$H$16
Name Position2: Timesheet!$D$16
Name PP: lists!$G$2:$G$11
Name Purpose_of_the_form: Instructions!$B$19
Name Sec_1: Timesheet!$E$6
Name Sec_2: Timesheet!$D$15
Name Sec_3: Timesheet!$D$30
Name Sec_4: Timesheet!$C$51
Name Sec_5: Timesheet!$E$77
Name Sec_6: Timesheet!$B$84
Name Sec_7: Timesheet!$B$89
Name Sec1_Error: error!$C$28
Name Sec2_Error: error!$C$29
Name Sec3_Error: error!$C$51
Name Sec4_Error: error!$C$85
Name Sec5_Error: error!$C$95
Name Sec6_Error: error!$C$102
Name True_End: Timesheet!$AD$18
Name True_Start: Timesheet!$AC$18
Name Workload_Fixed: Timesheet!$C$45

Sheet Instructions
B6: Before you start
B7: • | C7: This timesheet form is created in MS Excel. It includes automated calculations and checks, but it is not a fully programmed system. Please review all inputs manually before submission.
B8: • | C8: Use this form with Microsoft Excel 2007 or a later version.
B9: • | C9: If you notice any inconsistencies in the form, please inform us by email at
C10: ◦ | D10: latlit@varam.gov.lv
C11: or use the contacts available here:
C12: ◦ | D12: http://latlit.eu/contact-us
B19: Purpose of the form
B20: • | C20: This is the mandatory form for reporting the working time of persons who are using Standard scale of unit cost method defined by the Programme. Based on the entered data, the form automatically calculates the maximum eligible hours according to programme-specific restrictions (Manual Section 7.5.1 "CC1 Staff Costs").
B22: How to fill in the form
B23: General guidance
B24: 1. | C24: Complete a separate timesheet for each employee and each reporting period. The exception are Sections 5 (balance) and 6 (comments), where information from previous reporting periods and information about other employees working in the same position has to be provided.
B25: 2. | C25: Start from Section 1, complete the form sequentially and finish with Section 7. Many fields update automatically based on information entered in previous sections.
B26: 3. | C26: Use the navigation buttons at the top to move between sections, and check the form status for any errors before signing.
B27: 4. | C27: Always use a new template (do not update an old copy) to avoid errors.
B28: 5. | C28: This form is locked to ensure data integrity. Any attempt to alter its protection may be considered fraudulent activity.
B29: 6. | C29: After the employee completes the form, the employee's authorised supervisor (manager) must sign it with a secure electronic signature. Please save the document as an MS Excel file (.xlsx) and sign it in .edoc, .adoc, or .asice format.
C30: You may use the following or other platforms and tools:
C31: ◦ | D31: https://www.eparaksts.lv/en
C32: ◦ | D32: https://adoc.archyvai.lt
B34: If the employee worked in more than two positions during the reporting period:
B35: 1. | C35: A separate timesheet form must be completed for each position.
B36: 2. | C36: Relevant information must be provided in Section 6 (Comments).
B37: 3. | C37: Information on eligible hours per position in Sections 4.2, 4.3 and 5 is not valid. The number of eligible hours for each position must be calculated manually.
B39: Entering data
B40: Enter information manually whenever possible.
B41: (!) Do not paste entire cells, rows or columns. This may damage formulas or formatting.
B43: Copying and pasting text or numbers without formatting:
B44: Always double-click the destination cell before pasting, as shown below.
B45: ◦ Using the keyboard:
B46: Ctrl+C → Double-click the destination cell → Ctrl+V → Enter
B47: ◦ Using the mouse:
C48: 1) Copy the required text or number. 2) Double-click the destination cell. 3) Right-click the destination cell and select Paste.
B49: (!) Never enter formulas. Enter numbers only, as formulas may cause rounding errors.
B51: Meaning of colours
B52: • | C52: The form uses colour coding to distinguish fields requiring user input, automatically calculated fields and fields requiring attention.
B54: Yellow entry cells | F54: Fields in which information must be entered or selected. → Information should be entered only in yellow cells.
B55: Red error messages and red borders around yellow entry cells | F55: Information is missing, invalid or inconsistent. → Correct the relevant entries and make sure that no red error messages remain.
B56: Red text and light red cells | F56: Incorrect information has been entered in the field. → Check the error message and correct the entry.
B57: White result cells | F57: Information is calculated or displayed automatically.
B58: Grey cells & Grey cells with red text | F58: Fields that are currently inactive or not applicable. Do not enter information in these fields. → If previously entered information is shown in red in a grey field, delete it.
B59: ⚠️ Purple text and symbols | F59: Important instructions, warnings or calculated results requiring attention. → A warning does not mean that the information entered is incorrect, but the indicated issue should be checked.
B60: Green text | F60: Message indicating that all mandatory fields of the form are filled in and there are no more error messages, i.e. the form can be signed.
B61: Blue text | F61: Headings, explanations or neutral instructions that help users complete the form.
B62: White background and anthracite text | F62: Form navigation buttons to sections.

Sheet Timesheet
C1: Status: | D1: =error!$C$6 -> [ ] Form is empty | I1: =error!$C$3
A3: Project timesheet | AC3: Helper formulas
B4: =Form_Start -> [ ] Start at Section 1, then complete the other sections sequentially
B5: 1. General information
B6: 1.1 | C6: Employee | D6: Name, surname: | AC6: Period start date | AD6: Period end date
B7: 1.2 | C7: Reporting period | D7: No.: | F7: Duration: | H7: months | I7: Start: | L7: End: | M7: =IF( Form_Start<>"", "", IF(AND(Peri_Duration<>"",Peri_Start<>""),$AD$7,"") ) | AB7: Period | AC7: =Peri_Start -> 0 | AD7: =IF(OR(Peri_Duration="",Peri_Start=""),0,EDATE(Peri_Start,Peri_Duration)-1) -> 0
B8: 1.3 | C8: Project | D8: ID: | F8: Acronym: | I8: Title:
B9: 1.4 | C9: Project partner | D9: PP number: | F9: Organisation:
B10: =error!$C$12 | H10: =error!$C$13
B12: 2. Employee position in the project
D13: Employee position | H13: Duties in the project | J13: Position was held by several employees during the reporting period1 | L13: Work in the project2 | P13: Employee worked the full reporting period
L14: Start | N14: End | AC14: True start | AD14: True end
B15: 2.1 | C15: Position 1: | P15: =IF( AND( IF($L15="", Peri_Start, $L15)<=Peri_Start, IF($N15="", $AD$7, $N15)>=$AD$7 ), "Yes", "No" ) -> Yes | AB15: P1 | AC15: =IF(OR($L15>Peri_End2, $L15="", AND($L15<Peri_Start, $L15<Peri_End2)),Peri_Start, $L$15) -> 0 | AD15: =IF(OR($N$15>$AD$7, $N$15=""),$AD$7, $N$15) -> 0
B16: 2.2 | C16: Position 2: | P16: =IF(Position2="", "", IF( AND( IF($L16="", Peri_Start, $L16)<=Peri_Start, IF($N16="", $AD$7, $N16)>=$AD$7 ), "Yes", "No" )) | AB16: P2 | AC16: =IF(Position2<>"", IF(OR($L16>Peri_End2, $L16="", AND($L16<Peri_Start, $L16<Peri_End2)),Peri_Start, $L$16), "") | AD16: =IF(Position2<>"", IF(OR($N$16>$AD$7, $N$16=""),$AD$7, $N$16), "")
B17: 1 If the position was held by several employees during the reporting period, provide information in Section 6 (Comments).
B18: 2 If the employee did not work the full reporting period, indicate the start and end dates of the work. Otherwise, leave empty. | AB18: Both | AC18: =IF($AC$16="", $AC$15, IF($AC$15<$AC$16, $AC$15, $AC$16)) -> 0 | AD18: =IF($AD$16="", $AD$15, IF($AD$15>$AD$16, $AD$15, $AD$16)) -> 0
B19: =error!$C$16 | K19: =error!$C$22
B20: =error!$C$27
B22: 3. Detailed project timesheet
B23: Month | D23: Total hours in the institution (including work in the project) | E23: Work in the project
E24: =IF($D$15="","",$C$15&" "&$D$15) | K24: =IF(Position2="","",$C$16&" "&Position2) | Q24: =IF(Position2="","", "Total hours in the project")
E25: Hours worked in the project | F25: Description of work performed in the reporting period | K25: =IF(Position2="", "", $E$25) | L25: =IF(Position2="", "", $F$25)
F26: =IF(Sec_2="","","Duties: "& $H$15) | L26: =IF(OR(Sec_2="", Position2=""),"","Duties: "& $H$16)
F27: =lists!$S$2 -> Provide description for each month with reported hours (including reference to project activity) | L27: =IF(Position2="", "", lists!$S$3) | AB27: Period months both
B28: =IF($C28<>"", "3."& $AB28, "") | C28: =IF(OR(Peri_Duration="", Peri_Start=""), "", TEXT(+DATE(YEAR($AC28), MONTH($AC28), 1),"[$-en-GB]mmmm yyyy")) | Q28: =IF(Position2="","",SUM($E28,$K28)) | AB28: 1 | AC28: =DATE(YEAR(True_Start), MONTH(True_Start), 1) -> 1 | AD28: =EOMONTH($AC$28,0) -> 31
B29: =IF($C29<>"", "3."& $AB29, "") | C29: =IF(OR(Peri_Duration="", Peri_Start=""), "", IFERROR( TEXT(DATE(YEAR($AC29), MONTH($AC29), 1),"[$-en-GB]mmmm yyyy"), "")) | Q29: =IF(Position2="","",SUM($E29,$K29)) | AB29: 2 | AC29: =IF($AC28="", "", IF(EDATE($AC28, 1)<Peri_End2+1, EDATE($AC28, 1), "")) | AD29: =IF($AC$29="", "", EOMONTH($AC$29,0))
B30: =IF($C30<>"", "3."& $AB30, "") | C30: =IF(OR(Peri_Duration="", Peri_Start=""), "", IFERROR( TEXT(DATE(YEAR($AC30), MONTH($AC30), 1),"[$-en-GB]mmmm yyyy"), "")) | Q30: =IF(Position2="","",SUM($E30,$K30)) | AB30: 3 | AC30: =IF($AC29="", "", IF(EDATE($AC29, 1)<Peri_End2+1, EDATE($AC29, 1), "")) | AD30: =IF($AC$30="", "", EOMONTH($AC$30,0))
B31: =IF($C31<>"", "3."& $AB31, "") | C31: =IF(OR(Peri_Duration="", Peri_Start=""), "", IFERROR( TEXT(DATE(YEAR($AC31), MONTH($AC31), 1),"[$-en-GB]mmmm yyyy"), "")) | Q31: =IF(Position2="","",SUM($E31,$K31)) | AB31: 4 | AC31: =IF($AC30="", "", IF(EDATE($AC30, 1)<Peri_End2+1, EDATE($AC30, 1), "")) | AD31: =IF($AC$31="", "", EOMONTH($AC$31,0))
B32: =IF($C32<>"", "3."& $AB32, "") | C32: =IF(OR(Peri_Duration="", Peri_Start=""), "", IFERROR( TEXT(DATE(YEAR($AC32), MONTH($AC32), 1),"[$-en-GB]mmmm yyyy"), "")) | Q32: =IF(Position2="","",SUM($E32,$K32)) | AB32: 5 | AC32: =IF($AC31="", "", IF(EDATE($AC31, 1)<Peri_End2+1, EDATE($AC31, 1), "")) | AD32: =IF($AC$32="", "", EOMONTH($AC$32,0))
B33: =IF($C33<>"", "3."& $AB33, "") | C33: =IF(OR(Peri_Duration="", Peri_Start=""), "", IFERROR( TEXT(DATE(YEAR($AC33), MONTH($AC33), 1),"[$-en-GB]mmmm yyyy"), "")) | Q33: =IF(Position2="","",SUM($E33,$K33)) | AB33: 6 | AC33: =IF($AC32="", "", IF(EDATE($AC32, 1)<Peri_End2+1, EDATE($AC32, 1), "")) | AD33: =IF($AC$33="", "", EOMONTH($AC$33,0))
B34: =IF($C34<>"", "3."& $AB34, "") | C34: =IF(OR(Peri_Duration="", Peri_Start=""), "", IFERROR( TEXT(DATE(YEAR($AC34), MONTH($AC34), 1),"[$-en-GB]mmmm yyyy"), "")) | Q34: =IF(Position2="","",SUM($E34,$K34)) | AB34: 7 | AC34: =IF($AC33="", "", IF(EDATE($AC33, 1)<Peri_End2+1, EDATE($AC33, 1), "")) | AD34: =IF($AC$34="", "", EOMONTH($AC$34,0))
B35: 3. Total | D35: =SUM($D$28:$D$34) -> 0 | E35: =SUM($E$28:$E$34) -> 0 | K35: =IF(Position2="", 0, SUM($K$28:$K$34)) -> 0 | Q35: =IF(Position2="", 0, SUM($Q$28:$Q$34)) -> 0
B36: =error!$C$33 | K36: =error!$C$43
B37: =error!$C$51
B39: 4. Eligible hours during the reporting period for the employee
B40: =IF(OR(Peri_Start="", Peri_Duration=""), "", "for the period from "& TEXT(True_Start,"[$-en-GB]d mmmm yyyy") & " to "& TEXT(True_End,"[$-en-GB]d mmmm yyyy") )
B41: LP/PP cannot declare more than 1 720 hours per full time employee per year. PPs shall reduce this maximum number of hours to a pro-rata of 1 720 hours for employees working reporting periods shorter than 12 months. For a six-month period, a maximum of 860 hours will be allowed.
B42: 4.1 | C42: Workload change confirmation
C44: ="Did the employee’s workload coefficient in the institution remain unchanged during the Reporting Period "&Period_No& "?" -> Did the employee’s workload coefficient in the institution remain unchanged during the Reporting Period ?
D45: =IF(Workload_Fixed="Yes", error!$D$55, IF(Workload_Fixed="No", error!$D$56, error!$D$57)) -> ←← Select Yes or No | H45: =error!$C$60
B48: 4.2 Eligible hours calculation
C49: Workload coefficient in institution | D49: Workload period3 | I49: Maximum possible productive hours | J49: =$D$15 -> 0 | M49: =IF(Position2<>"", Position2, "") | P49: =IF(Position2<>"", "Total", "")
D50: Start | F50: End | H50: Calendar days | J50: Hours worked in the project | K50: Hours ratio per position (Total hours worked in the project = 100%) | L50: Eligible hours | M50: =IF(Position2<>"", $J$50, "") | N50: =IF(Position2<>"", $K$50, "") | O50: =IF(Position2<>"", $L$50, "") | P50: =IF(Position2<>"", $J$50, "") | Q50: =IF(Position2<>"", $L$50, "")
B51: 4.2.1 | D51: =IF(Form_Start<>"","",IF(OR(Peri_Duration="",Peri_Start=""),"",True_Start)) | F51: {=IF($D51="","",IF(Workload_Fixed="Yes",True_End,IF(Workload_Fixed="No",IFERROR(INDEX($D$52:$D$58,MATCH(TRUE,INDEX($D$52:$D$58<>"",0),0))-1,True_End),"")))} | H51: =IF(AND(ISNUMBER($D51),ISNUMBER($F51)),$F51-$D51+1,"") | I51: =IF(OR($C51="",$H51=""),"",ROUND((860/6*Peri_Duration)/(Peri_End2-Peri_Start+1)*$H51*$C51,2)) | J51: =IF($D51="","",$E$35-IF(Workload_Fixed="No",SUM($J$52:$J$58),0)) | K51: =IF(SUM($J51,$M51)=0,"",$J51/SUM($J51,$M51)) | L51: =IFERROR(IF($I51="","",ROUND(IF(SUM($J51,$M51)>$I51,$I51*$K51,$J51),2)),"") | M51: =IF(Position2="","",$K$35-IF(Workload_Fixed="No",SUM($M$52:$M$58),0)) | N51: =IF(OR(Position2="",SUM($J51,$M51)=0),"",$M51/SUM($J51,$M51)) | O51: =IFERROR(IF(OR(Position2="",$I51=""),"",ROUND(IF(SUM($J51,$M51)>$I51,$I51-$L51,$M51),2)),"") | P51: =IF(OR(Position2="", $D51=""),"",SUM($J51,$M51)) | Q51: =IF(OR(Position2="", $D51=""),"",SUM($L51,$O51))
B52: =IF(Workload_Fixed="No","4.2.2","") | F52: {=IF(OR(Workload_Fixed<>"No",D52=""),"",IFERROR(INDEX(D53:$D$58,MATCH(TRUE,INDEX(D53:$D$58<>"",0),0))-1,True_End))} | H52: =IF(OR(Workload_Fixed<>"No",NOT(ISNUMBER($D52)),NOT(ISNUMBER($F52))),"",$F52-$D52+1) | I52: =IF(OR(Workload_Fixed<>"No",$C52="",$H52=""),"",ROUND((860/6*Peri_Duration)/(Peri_End2-Peri_Start+1)*$H52*$C52,2)) | K52: =IF(OR(Workload_Fixed<>"No",SUM($J52,$M52)=0),"",$J52/SUM($J52,$M52)) | L52: =IFERROR(IF(OR(Workload_Fixed<>"No",$I52=""),"",ROUND(IF(SUM($J52,$M52)>$I52,$I52*$K52,$J52),2)),"") | N52: =IF(OR(Workload_Fixed<>"No",Position2="",SUM($J52,$M52)=0),"",$M52/SUM($J52,$M52)) | O52: =IFERROR(IF(OR(Workload_Fixed<>"No",Position2="",$I52=""),"",ROUND(IF(SUM($J52,$M52)>$I52,$I52-$L52,$M52),2)),"") | P52: =IF(OR(Workload_Fixed<>"No",Position2="", $D52=""),"",SUM($J52,$M52)) | Q52: =IF(OR(Workload_Fixed<>"No",Position2="", $D52=""),"",SUM($L52,$O52))
B53: =IF(AND(Workload_Fixed="No",OR($C53<>"", $D53<>"", $J53<>"", $M53<>"")),"4.2.3","") | F53: {=IF(OR(Workload_Fixed<>"No",D53=""),"",IFERROR(INDEX(D54:$D$58,MATCH(TRUE,INDEX(D54:$D$58<>"",0),0))-1,True_End))} | H53: =IF(OR(Workload_Fixed<>"No",NOT(ISNUMBER($D53)),NOT(ISNUMBER($F53))),"",$F53-$D53+1) | I53: =IF(OR(Workload_Fixed<>"No",$C53="",$H53=""),"",ROUND((860/6*Peri_Duration)/(Peri_End2-Peri_Start+1)*$H53*$C53,2)) | K53: =IF(OR(Workload_Fixed<>"No",SUM($J53,$M53)=0),"",$J53/SUM($J53,$M53)) | L53: =IFERROR(IF(OR(Workload_Fixed<>"No",$I53=""),"",ROUND(IF(SUM($J53,$M53)>$I53,$I53*$K53,$J53),2)),"") | N53: =IF(OR(Workload_Fixed<>"No",Position2="",SUM($J53,$M53)=0),"",$M53/SUM($J53,$M53)) | O53: =IFERROR(IF(OR(Workload_Fixed<>"No",Position2="",$I53=""),"",ROUND(IF(SUM($J53,$M53)>$I53,$I53-$L53,$M53),2)),"") | P53: =IF(OR(Workload_Fixed<>"No",Position2="", $D53=""),"",SUM($J53,$M53)) | Q53: =IF(OR(Workload_Fixed<>"No",Position2="", $D53=""),"",SUM($L53,$O53))
B54: =IF(AND(Workload_Fixed="No",OR($C54<>"", $D54<>"", $J54<>"", $M54<>"")),"4.2.4","") | F54: {=IF(OR(Workload_Fixed<>"No",D54=""),"",IFERROR(INDEX(D55:$D$58,MATCH(TRUE,INDEX(D55:$D$58<>"",0),0))-1,True_End))} | H54: =IF(OR(Workload_Fixed<>"No",NOT(ISNUMBER($D54)),NOT(ISNUMBER($F54))),"",$F54-$D54+1) | I54: =IF(OR(Workload_Fixed<>"No",$C54="",$H54=""),"",ROUND((860/6*Peri_Duration)/(Peri_End2-Peri_Start+1)*$H54*$C54,2)) | K54: =IF(OR(Workload_Fixed<>"No",SUM($J54,$M54)=0),"",$J54/SUM($J54,$M54)) | L54: =IFERROR(IF(OR(Workload_Fixed<>"No",$I54=""),"",ROUND(IF(SUM($J54,$M54)>$I54,$I54*$K54,$J54),2)),"") | N54: =IF(OR(Workload_Fixed<>"No",Position2="",SUM($J54,$M54)=0),"",$M54/SUM($J54,$M54)) | O54: =IFERROR(IF(OR(Workload_Fixed<>"No",Position2="",$I54=""),"",ROUND(IF(SUM($J54,$M54)>$I54,$I54-$L54,$M54),2)),"") | P54: =IF(OR(Workload_Fixed<>"No",Position2="", $D54=""),"",SUM($J54,$M54)) | Q54: =IF(OR(Workload_Fixed<>"No",Position2="", $D54=""),"",SUM($L54,$O54))
B55: =IF(AND(Workload_Fixed="No",OR($C55<>"", $D55<>"", $J55<>"", $M55<>"")),"4.2.5","") | F55: {=IF(OR(Workload_Fixed<>"No",D55=""),"",IFERROR(INDEX(D56:$D$58,MATCH(TRUE,INDEX(D56:$D$58<>"",0),0))-1,True_End))} | H55: =IF(OR(Workload_Fixed<>"No",NOT(ISNUMBER($D55)),NOT(ISNUMBER($F55))),"",$F55-$D55+1) | I55: =IF(OR(Workload_Fixed<>"No",$C55="",$H55=""),"",ROUND((860/6*Peri_Duration)/(Peri_End2-Peri_Start+1)*$H55*$C55,2)) | K55: =IF(OR(Workload_Fixed<>"No",SUM($J55,$M55)=0),"",$J55/SUM($J55,$M55)) | L55: =IFERROR(IF(OR(Workload_Fixed<>"No",$I55=""),"",ROUND(IF(SUM($J55,$M55)>$I55,$I55*$K55,$J55),2)),"") | N55: =IF(OR(Workload_Fixed<>"No",Position2="",SUM($J55,$M55)=0),"",$M55/SUM($J55,$M55)) | O55: =IFERROR(IF(OR(Workload_Fixed<>"No",Position2="",$I55=""),"",ROUND(IF(SUM($J55,$M55)>$I55,$I55-$L55,$M55),2)),"") | P55: =IF(OR(Workload_Fixed<>"No",Position2="", $D55=""),"",SUM($J55,$M55)) | Q55: =IF(OR(Workload_Fixed<>"No",Position2="", $D55=""),"",SUM($L55,$O55))
B56: =IF(AND(Workload_Fixed="No",OR($C56<>"", $D56<>"", $J56<>"", $M56<>"")),"4.2.6","") | F56: {=IF(OR(Workload_Fixed<>"No",D56=""),"",IFERROR(INDEX(D57:$D$58,MATCH(TRUE,INDEX(D57:$D$58<>"",0),0))-1,True_End))} | H56: =IF(OR(Workload_Fixed<>"No",NOT(ISNUMBER($D56)),NOT(ISNUMBER($F56))),"",$F56-$D56+1) | I56: =IF(OR(Workload_Fixed<>"No",$C56="",$H56=""),"",ROUND((860/6*Peri_Duration)/(Peri_End2-Peri_Start+1)*$H56*$C56,2)) | K56: =IF(OR(Workload_Fixed<>"No",SUM($J56,$M56)=0),"",$J56/SUM($J56,$M56)) | L56: =IFERROR(IF(OR(Workload_Fixed<>"No",$I56=""),"",ROUND(IF(SUM($J56,$M56)>$I56,$I56*$K56,$J56),2)),"") | N56: =IF(OR(Workload_Fixed<>"No",Position2="",SUM($J56,$M56)=0),"",$M56/SUM($J56,$M56)) | O56: =IFERROR(IF(OR(Workload_Fixed<>"No",Position2="",$I56=""),"",ROUND(IF(SUM($J56,$M56)>$I56,$I56-$L56,$M56),2)),"") | P56: =IF(OR(Workload_Fixed<>"No",Position2="", $D56=""),"",SUM($J56,$M56)) | Q56: =IF(OR(Workload_Fixed<>"No",Position2="", $D56=""),"",SUM($L56,$O56))
B57: =IF(AND(Workload_Fixed="No",OR($C57<>"", $D57<>"", $J57<>"", $M57<>"")),"4.2.7","") | F57: {=IF(OR(Workload_Fixed<>"No",D57=""),"",IFERROR(INDEX(D58:$D$58,MATCH(TRUE,INDEX(D58:$D$58<>"",0),0))-1,True_End))} | H57: =IF(OR(Workload_Fixed<>"No",NOT(ISNUMBER($D57)),NOT(ISNUMBER($F57))),"",$F57-$D57+1) | I57: =IF(OR(Workload_Fixed<>"No",$C57="",$H57=""),"",ROUND((860/6*Peri_Duration)/(Peri_End2-Peri_Start+1)*$H57*$C57,2)) | K57: =IF(OR(Workload_Fixed<>"No",SUM($J57,$M57)=0),"",$J57/SUM($J57,$M57)) | L57: =IFERROR(IF(OR(Workload_Fixed<>"No",$I57=""),"",ROUND(IF(SUM($J57,$M57)>$I57,$I57*$K57,$J57),2)),"") | N57: =IF(OR(Workload_Fixed<>"No",Position2="",SUM($J57,$M57)=0),"",$M57/SUM($J57,$M57)) | O57: =IFERROR(IF(OR(Workload_Fixed<>"No",Position2="",$I57=""),"",ROUND(IF(SUM($J57,$M57)>$I57,$I57-$L57,$M57),2)),"") | P57: =IF(OR(Workload_Fixed<>"No",Position2="", $D57=""),"",SUM($J57,$M57)) | Q57: =IF(OR(Workload_Fixed<>"No",Position2="", $D57=""),"",SUM($L57,$O57))
B58: =IF(AND(Workload_Fixed="No",OR($C58<>"", $D58<>"", $J58<>"", $M58<>"")),"4.2.8","") | F58: =IF(OR(Workload_Fixed<>"No",D58=""),"",True_End) | H58: =IF(OR(Workload_Fixed<>"No",NOT(ISNUMBER($D58)),NOT(ISNUMBER($F58))),"",$F58-$D58+1) | I58: =IF(OR(Workload_Fixed<>"No",$C58="",$H58=""),"",ROUND((860/6*Peri_Duration)/(Peri_End2-Peri_Start+1)*$H58*$C58,2)) | K58: =IF(OR(Workload_Fixed<>"No",SUM($J58,$M58)=0),"",$J58/SUM($J58,$M58)) | L58: =IFERROR(IF(OR(Workload_Fixed<>"No",$I58=""),"",ROUND(IF(SUM($J58,$M58)>$I58,$I58*$K58,$J58),2)),"") | N58: =IF(OR(Workload_Fixed<>"No",Position2="",SUM($J58,$M58)=0),"",$M58/SUM($J58,$M58)) | O58: =IFERROR(IF(OR(Workload_Fixed<>"No",Position2="",$I58=""),"",ROUND(IF(SUM($J58,$M58)>$I58,$I58-$L58,$M58),2)),"") | P58: =IF(OR(Workload_Fixed<>"No",Position2="", $D58=""),"",SUM($J58,$M58)) | Q58: =IF(OR(Workload_Fixed<>"No",Position2="", $D58=""),"",SUM($L58,$O58))
F59: 4.2 Total | H59: =SUM($H$51:$H$58) -> 0 | I59: =SUM($I$51:$I$58) -> 0 | J59: =SUM($J$51:$J$58) -> 0 | L59: =SUM($L$51:$L$58) -> 0 | M59: =IF(Position2<>"", SUM($M$51:$M$58),"") | O59: =IF(Position2<>"", SUM($O$51:$O$58),"") | P59: =IF(Position2<>"", SUM($P$51:$P$58),"") | Q59: =IF(Position2<>"", SUM($Q$51:$Q$58),"")
B60: 3 If more workload periods are needed, contact the Joint Secretariat.
B61: =error!$C$59
B62: =error!$C$61 | K62: =error!$C$69
B64: 4.3 Information to enter in JEMS
B65: → | C65: Enter the eligible hours for each position as a separate entry in the Project Partner Report in JEMS.
C66: The total is provided for control purposes.
B67: Employee position | I67: Eligible hours for the current reporting period
B68: 4.3.1 | C68: Position 1: | D68: =$D$15 -> 0 | I68: =$L$59 -> 0
B69: 4.3.2 | C69: Position 2: | D69: =IF(Position2="","",Position2) | I69: =$O$59
B70: Total eligible hours | I70: =SUM($I$68:$L$69) -> 0
B71: =error!$C$85
B73: 5. Balance of reported hours per position
B74: Position | E74: Planned hours | F74: Previous reporting periods | N74: Current reporting period | P74: Remaining hours
F75: Position was held by several employees4 | G75: Eligible hours (for all employees in position) | N75: Position was held by several employees4 | O75: Eligible hours
G76: =IF(Period_No>1,1,"") | H76: =IF(Period_No>2,2,"") | I76: =IF(Period_No>3,3,"") | J76: =IF(Period_No>4,4,"") | K76: =IF(Period_No>5,5,"") | L76: =IF(Period_No>6,6,"") | M76: =IF(Period_No>7,7,"")
B77: 5.1 | C77: =$D$15 -> 0 | N77: =$J$15 -> 0 | O77: =$I$68 -> 0 | P77: =IF($D$15="","",$E$77-SUM($G$77:$M$77,$O$77))
B78: =IF(Position2="","","5.2") | C78: =IF(Position2="","",Position2) | N78: =IF(Position2="", "", $J$16) | O78: =$I$69 | P78: =IF(Position2="", "", $E$78-SUM($G$78:$M$78)-$O$78)
B79: 4 If the position was held by several employees during the current or previous reporting period(s), provide information in Section 6 (Comments).
B80: =error!C89
B81: =error!$C$95
B83: 6. Project partner comments on the provided information:
B85: =error!$C$99
B87: 7. Confirmation by authorised supervisor
B88: I hereby confirm that the description of work performed and the number of reported hours worked per project are accurate and reflect only productive hours, as defined by the programme guidelines. The total hours in the institution reported in this form are consistent with the total number of hours recorded in the institution’s official monthly working time report form (in Latvian: Darba laika uzskaites tabula, in Lithuanian: Darbo laiko apskaitos žiniaraštis).
B90: Name, surname, position, signature, date, place

Sheet lists
A1: Reporting period No. | B1: Duration of period | D1: Period start/end | F1: PP Countries | G1: PP position | H1: Duties for position | I1: Line 2.2 "Duties" | J1: Duties if Position 2 <>" " dependent drop-down | L1: Yes No | M1: Sharing position: Line 2.2 & Line 5.2 | N1: YNif Position 2 <>" " dependent drop-down | Q1: hours limits per period | R1: 3. Detailed timesheet On tasks/summary | S1: Formula | T1: message
A2: 1 | B2: 1 | C2: Start | D2: 45292 | F2: Lithuania | G2: LP | H2: Project management | I2: Project man | J2: =IF(Position2="", "", lists!$H2) | L2: Yes | M2: Y | N2: =IF(Position2="", "", lists!$L2) | P2: LP manager | Q2: 430 | R2: Position 1 Small admin hours | S2: =IF(AND(Pos1_duties=$H$2,Timesheet!$E$9=lists!$G$2),H_LP_man, IF(AND(Pos1_duties=$H$2,Timesheet!$E$9<>""),H_PP_man, IF(AND(Pos1_duties=$H$3,Timesheet!$E$9<>""),H_Fin, H_Other))) -> Provide description for each month with reported hours (including reference to project activity) | T2: IF ≤430 H: provide a summary in the first active field. IF >430 H: provide a description for each month with reported hours.
A3: 2 | B3: 2 | C3: End | D3: 47848 | F3: Latvia | G3: PP2 | H3: Financial manager | I3: Fin Man | J3: =IF(Position2="", "", lists!$H3) | L3: No | M3: N | N3: =IF(Position2="", "", lists!$L3) | P3: PP manager | Q3: 284 | R3: Position 2 Small admin hours | S3: =IF(AND(Pos2_duties=$H$2,Timesheet!$E$9=lists!$G$2),H_LP_man, IF(AND(Pos2_duties=$H$2,Timesheet!$E$9<>""),H_PP_man, IF(AND(Pos2_duties=$H$3,Timesheet!$E$9<>""),H_Fin, H_Other))) -> Provide description for each month with reported hours (including reference to project activity) | T3: IF ≤284 H: provide a summary in the first active field. IF >284 H: provide a description for each month with reported hours.
A4: 3 | B4: 3 | G4: PP3 | H4: Other | I4: N/A | J4: =IF(Position2="", "", lists!$H4) | P4: Financial manager | Q4: 215 | T4: IF ≤215 H: provide a summary in the first active field. IF >215 H: provide a description for each month with reported hours.
A5: 4 | B5: 4 | G5: PP4 | P5: Other | T5: Provide description for each month with reported hours (including reference to project activity)
A6: 5 | B6: 5 | G6: PP5 | Q6: If the limits stated below are exceeded, PP shall present detailed
A7: 6 | B7: 6 | G7: PP6 | Q7: information about implemented duties and tasks for all reported working hours of the
A8: 7 | G8: PP7 | Q8: staff members, with the respective duties in timesheets:
A9: 8 | G9: PP8 | Q9: - LP project management duties – 430 hours per reporting period,
G10: PP9 | Q10: - PP project management duties per PP – 284 hours per reporting period,
G11: PP10 | Q11: - LP/PP financial manager duties – 215 hours per reporting period.

Sheet error
B1: Error No. | C1: Formula | D1: Error message | E1: Explanation
A2: Headers
B3: Form has errors | C3: =IF(OR(Sec1_Error<>"",Sec2_Error<>"",Sec3_Error<>"",Sec4_Error<>"",Sec5_Error<>"",Sec6_Error<>""), $D$3& IF((Sec1_Error<>"")+(Sec2_Error<>"")+(Sec3_Error<>"")+(Sec4_Error<>"")+(Sec5_Error<>"")+(Sec6_Error<>"")>1,$D$4,"")& " "&MID( IF(Sec1_Error<>"",$D$5&"1","")& IF(Sec2_Error<>"",$D$5&"2","")& IF(Sec3_Error<>"",$D$5&"3","")& IF(Sec4_Error<>"",$D$5&"4","")& IF(Sec5_Error<>"",$D$5&"5","")& IF(Sec6_Error<>"",$D$5&"6",""), LEN($D$5)+1,255 )&".", "" ) | D3: ⚠️ There are errors in Section
D4: s
D5: ,
B6: Form fill in | C6: =IF( Form_Start<>"", $D$6, IF($C$3<>"",$D$7,$D$8) ) -> [ ] Form is empty | D6: [ ] Form is empty
D7: [>] Filling in of form has started
D8: [OK] Form is completed and can be signed | E8: D8 = Form_Completed_Message
B9: Form start | C9: =IF( SUM( COUNTA(Sec_1,Period_No,Peri_Duration,Peri_Start,Timesheet!$E$8,Timesheet!$G$8,Timesheet!$J$8,Timesheet!$E$9,Timesheet!$G$9), COUNTA(Sec_2,Pos1_duties,Timesheet!$J$15,Timesheet!$L$15,Timesheet!$N$15,Position2,Pos2_duties,Timesheet!$J$16,Timesheet!$L$16,Timesheet!$N$16), COUNTA(Timesheet!$D$28:$F$34,Timesheet!$K$28:$L$34), COUNTA(Workload_Fixed,Timesheet!$C$51:$C$58,Timesheet!$D$52:$D$58,Timesheet!$J$52:$J$58,Timesheet!$M$52:$M$58), COUNTA(Sec_5,Timesheet!$F$77:$M$77,Timesheet!$E$78:$M$78), COUNTA(Timesheet!$B$84:$Q$84), COUNTA(Timesheet!$B$89:$Q$89) )=0, $D$9, "") -> [ ] Start at Section 1, then complete the other sections sequentially | D9: [ ] Start at Section 1, then complete the other sections sequentially
A11: Section 1
B12: 1.1 | C12: =IF(OR(Form_Start<>"", AND(Timesheet!$E$6<>"", Period_No<>"", Peri_Duration<>"", Peri_Start<>"", Timesheet!$E$8<>"", Timesheet!$G$8<>"", Timesheet!$J$8<>"", Timesheet!$E$9<>"", Timesheet!$G$9<>"")), "", "Error "&$B$12&": "&$D$12) | D12: Complete all mandatory fields in Section 1.
B13: 1.2 | C13: =IF(OR(Form_Start<>"", AND(Period_No<>"", Peri_Duration<>"", Peri_Start<>"", Timesheet!$E$9<>"")), "", "Critical error "&$B$13&": "&$D$13) | D13: Complete all fields in line 1.2 and PP number. Information is required for calculations in the following sections!
A15: Section 2
B16: Char 2.1-2.3 | C16: =$C$17& IF(AND($C$17<>"",$C$20<>""),CHAR(10),"")& $C$20& IF(AND(OR($C$17<>"",$C$20<>""),$C$21<>""),CHAR(10),"")& $C$21 | E16: Merges several error messages into one cell
B17: 2.1 | C17: =IF(Form_Start<>"","",IF( AND( OR(Timesheet!$D$15="",Timesheet!$H$15="",Timesheet!$J$15=""), AND(Position2<>"",OR(Timesheet!$H$16="",Timesheet!$J$16="")) ), "Error "&$B$17&": "& $D$17, IF( OR(Timesheet!$D$15="",Timesheet!$H$15="",Timesheet!$J$15=""), "Error "&$B$17&": "& $D$18, IF( AND(Position2<>"",OR(Timesheet!$H$16="",Timesheet!$J$16="")), "Error "&$B$17&": "& $D$19, "" )))) | D17: Complete all mandatory fields for Position 1 (line 2.1) and Position 2 (line 2.2).
D18: Complete all mandatory fields for Position 1 (line 2.1).
D19: Complete all mandatory fields for Position 2 (line 2.2).
B20: 2.2 | C20: =IF(AND(OR(Timesheet!$D$15="",Timesheet!$H$15="", Timesheet!$J$15 =""), OR(Position2<>"",Timesheet!$H$16<>"",Timesheet!$J$16<>"", Timesheet!$L$16<>"", Timesheet!$N$16<>"")), "Error "&$B$20&": "&$D$20,"") | D20: Complete Position 1 (line 2.1) before entering Position 2.
B21: 2.3 | C21: =IF(AND(Position2="", OR(Timesheet!$H$16<>"",Timesheet!$J$16<>"",Timesheet!$L$16<>"",Timesheet!$N$16<>"")), "Error "&$B$21&": "&$D$21, "") | D21: Enter title for Position 2, or delete the red entries from the inactive section before continuing (line 2.2).
B22: Char 2.4-2.6 | C22: =$C$24& IF(AND($C$24<>"",$C$25<>""),CHAR(10),"")& $C$25& IF(AND(OR($C$24<>"",$C$25<>""),$C$26<>""),CHAR(10),"")& $C$26 | E22: Merges several error messages into one cell
B24: 2.4 | C24: =IF(OR(Peri_Duration="",Peri_Start=""),"", IF( OR( AND(Timesheet!$N15<>"",IF(Timesheet!$L15="",Peri_Start,Timesheet!$L15)>Timesheet!$N15), AND(Timesheet!$N16<>"",IF(Timesheet!$L16="",Peri_Start,Timesheet!$L16)>Timesheet!$N16) ), "Error "&$B$24&": "&$D$24, "" )) | D24: The work start date must not be later than the work end date.
B25: 2.5 | C25: =IF( OR( Timesheet!$L$15>Timesheet!$AD$7, Timesheet!$L$16>Timesheet!$AD$7), "Error "& $B25& ": "& $D25, "") | D25: The work start date is after the end of the reporting period (check line 1.2).
B26: 2.6 | C26: =IF( OR( AND(Timesheet!$N$15<>"", Timesheet!$N$15<Peri_Start), AND(Timesheet!$N$16<>"", Timesheet!$N$16<Peri_Start )), "Error "& $B26& ": "& $D26, "") | D26: The work end date is before the start of the reporting period (check line 1.2).
B27: Warning End 2 | C27: =IF(AND(Sec1_Error<>"",Sec2_Error<>""),$D$27, IF(Sec1_Error<>"",Sec1_Error, IF(Sec2_Error<>"",Sec2_Error,""))) | D27: ⚠️ Sections 1 and 2 contain errors. Correct before continuing.
C28: =IF(OR($C$12<>"", $C$13<>""), $D$28, "") | D28: ⚠️ Section 1 contains errors. Correct before continuing.
C29: =IF(OR($C$16<>"", $C$22<>""), $D$29, "") | D29: ⚠️ Section 2 contains errors. Correct before continuing.
A32: Section 3
B33: Char 3.1 - 3.3 | C33: =$C$34& IF(AND($C$34<>"",$C$37<>""),CHAR(10),"")& $C$37& IF(AND(OR($C$34<>"",$C$37<>""),$C$38<>""),CHAR(10),"")& $C$38 | E33: Merges several error messages into one cell
B34: 3.1 | C34: =IF(AND($C$35<>"",$C$36<>""),"Error "&$B$34&": "&$D$34, IF($C$35<>"","Error "&$B$34&": "&$D$35, IF($C$36<>"","Error "&$B$34&": "&$D$36,""))) | D34: Enter project hours for Positions 1 and 2.
B35: 3.1 Position 1 | C35: {=IF(AND(Form_Start="",SUMPRODUCT(--ISNUMBER(Timesheet!$E$28:$E$34),--(Timesheet!$E$28:$E$34>0))=0),1,"")} | D35: Enter project hours for Position 1.
B36: 3.1 Position 2 | C36: {=IF(AND(Form_Start="",Position2<>"",SUMPRODUCT(--ISNUMBER(Timesheet!$K$28:$K$34),--(Timesheet!$K$28:$K$34>0))=0),1,"")} | D36: Enter project hours for Position 2.
B37: 3.2 | C37: {=IF( SUMPRODUCT( --(((Timesheet!$D$28:$D$34="")+ISNUMBER(Timesheet!$D$28:$D$34))>0), --((IFERROR(Timesheet!$E$28:$E$34*1,0)+IFERROR(Timesheet!$K$28:$K$34*1,0))>IFERROR(Timesheet!$D$28:$D$34*1,0)) )>0, "Error "&$B$37&": "&$D$37, "" )} | D37: The total hours worked in the institution cannot be less than the total hours worked in the project.
B38: 3.3 | C38: =IF( OR($C$39<>"",$C$40<>"",$C$41<>"", $C$42<>""), "Error "&$B$38&": "&$D$38&$C$39&$C$40&$C$41&$C$42, "") | D38: Delete the red entries from the inactive section before continuing:
B39: 3.3 if wrong period Position 1 | C39: =IF( OR( AND(COUNTIF(Timesheet!$E28:$J28,"<>")>0,OR(Timesheet!$AD$15<Timesheet!$AC28,Timesheet!$AC$15>Timesheet!$AD28)), AND(COUNTIF(Timesheet!$E29:$J29,"<>")>0,OR(Timesheet!$AD$15<Timesheet!$AC29,Timesheet!$AC$15>Timesheet!$AD29)), AND(COUNTIF(Timesheet!$E30:$J30,"<>")>0,OR(Timesheet!$AD$15<Timesheet!$AC30,Timesheet!$AC$15>Timesheet!$AD30)), AND(COUNTIF(Timesheet!$E31:$J31,"<>")>0,OR(Timesheet!$AD$15<Timesheet!$AC31,Timesheet!$AC$15>Timesheet!$AD31)), AND(COUNTIF(Timesheet!$E32:$J32,"<>")>0,OR(Timesheet!$AD$15<Timesheet!$AC32,Timesheet!$AC$15>Timesheet!$AD32)), AND(COUNTIF(Timesheet!$E33:$J33,"<>")>0,OR(Timesheet!$AD$15<Timesheet!$AC33,Timesheet!$AC$15>Timesheet!$AD33)), AND(COUNTIF(Timesheet!$E34:$J34,"<>")>0,OR(Timesheet!$AD$15<Timesheet!$AC34,Timesheet!$AC$15>Timesheet!$AD34)) ), CHAR(10)&$D$39, "") | D39: - Information for Position 1 is entered outside reporting period / work in project (check lines 1.2 and 2.1).
B40: 3.3 if wrong period Position 2 | C40: =IF( AND( Position2<>"", OR( AND(COUNTIF(Timesheet!$K28:$P28,"<>")>0,OR(Timesheet!$AD$16<Timesheet!$AC28,Timesheet!$AC$16>Timesheet!$AD28)), AND(COUNTIF(Timesheet!$K29:$P29,"<>")>0,OR(Timesheet!$AD$16<Timesheet!$AC29,Timesheet!$AC$16>Timesheet!$AD29)), AND(COUNTIF(Timesheet!$K30:$P30,"<>")>0,OR(Timesheet!$AD$16<Timesheet!$AC30,Timesheet!$AC$16>Timesheet!$AD30)), AND(COUNTIF(Timesheet!$K31:$P31,"<>")>0,OR(Timesheet!$AD$16<Timesheet!$AC31,Timesheet!$AC$16>Timesheet!$AD31)), AND(COUNTIF(Timesheet!$K32:$P32,"<>")>0,OR(Timesheet!$AD$16<Timesheet!$AC32,Timesheet!$AC$16>Timesheet!$AD32)), AND(COUNTIF(Timesheet!$K33:$P33,"<>")>0,OR(Timesheet!$AD$16<Timesheet!$AC33,Timesheet!$AC$16>Timesheet!$AD33)), AND(COUNTIF(Timesheet!$K34:$P34,"<>")>0,OR(Timesheet!$AD$16<Timesheet!$AC34,Timesheet!$AC$16>Timesheet!$AD34)) ) ), CHAR(10)&$D$40, "") | D40: - Information for Position 2 is entered outside reporting period / work in project (check lines 1.2 and 2.2).
B41: 3.3 if wrong period total institution | C41: {=IF( SUMPRODUCT( --(Timesheet!$D$28:$D$34<>""), --(Timesheet!$C$28:$C$34="") )>0, CHAR(10)&$D$41, "" )} | D41: - Total hours in the institution are entered outside the reporting period.
B42: 3.3 If Position2 = " " | C42: =IF( AND( Position2="", COUNTIF(Timesheet!$K$28:$P$34,"<>")>0 ), CHAR(10)&$D$42, "") | D42: - Position 2 (line 2.2) is empty, but related information is entered in Section 3.
B43: Char 3.4 - 3.6 | C43: =$C$44& IF(AND($C$44<>"",$C$47<>""),CHAR(10),"")& $C$47& IF(AND(OR($C$44<>"",$C$47<>""),$C$50<>""),CHAR(10),"")& $C$50
B44: 3.4 | C44: =IF(AND($C$45<>"",$C$46<>""),"Error "&$B$44&": "&$D$44, IF($C$45<>"",$C$45, IF($C$46<>"",$C$46,""))) | D44: Provide a work summary for Positions 1 and 2 if the applicable hours limits are not exceeded.
C45: =IF( AND(Timesheet!$E$35>0, OR(AND(Timesheet!$F$27=H_LP_man,Timesheet!$E$35<=430), AND(Timesheet!$F$27=H_PP_man,Timesheet!$E$35<=284), AND(Timesheet!$F$27=H_Fin,Timesheet!$E$35<=215)), COUNTIF(Timesheet!$F$28:$F$34,"<>")=0), "Error "&$B$44&": "&$D$45, "") | D45: Provide a work summary for Position 1 if the applicable hours limits are not exceeded.
C46: =IF( AND(Position2<>"",Timesheet!$K$35>0, OR(AND(Timesheet!$L$27=H_LP_man,Timesheet!$K$35<=430), AND(Timesheet!$L$27=H_PP_man,Timesheet!$K$35<=284), AND(Timesheet!$L$27=H_Fin,Timesheet!$K$35<=215)), COUNTIF(Timesheet!$L$28:$L$34,"<>")=0), "Error "&$B$44&": "&$D$46, "") | D46: Provide a work summary for Position 2 if the applicable hours limits are not exceeded.
B47: 3.5 | C47: =IF(AND($C$48<>"",$C$49<>""), "Error "&$B$47&": "&$D$47, IF(AND($C$48<>"",$C$49=""),$C$48, IF(AND($C$48="",$C$49<>""),$C$49,""))) | D47: Complete the missing hours or work descriptions for each reported month for Positions 1 and 2.
C48: {=IF(AND(OR(Timesheet!$F$27=H_Other, AND(Timesheet!$F$27=H_LP_man,Timesheet!$E$35>430), AND(Timesheet!$F$27=H_PP_man,Timesheet!$E$35>284), AND(Timesheet!$F$27=H_Fin,Timesheet!$E$35>215) ), SUMPRODUCT(--((Timesheet!$E$28:$E$34="")<>(Timesheet!$F$28:$F$34="")))>0 ), "Error "&$B$47&": "&$D$48, "" )} | D48: Complete the missing hours or work descriptions for each reported month for Position 1.
C49: {=IF( AND( Position2<>"", OR( Timesheet!$L$27=H_Other, AND(Timesheet!$L$27=H_LP_man,Timesheet!$K$35>430), AND(Timesheet!$L$27=H_PP_man,Timesheet!$K$35>284), AND(Timesheet!$L$27=H_Fin,Timesheet!$K$35>215) ), SUMPRODUCT(--((Timesheet!$K$28:$K$34="")<>(Timesheet!$L$28:$L$34="")))>0 ), "Error "&$B$47&": "&$D$49, "" )} | D49: Complete the missing hours or work descriptions for each reported month for Position 2.
B50: 3.6 | C50: =IF( COUNTA(Timesheet!$D$28:$D$34,Timesheet!$E$28:$E$34,Timesheet!$K$28:$K$34) -COUNT(Timesheet!$D$28:$D$34,Timesheet!$E$28:$E$34,Timesheet!$K$28:$K$34) +COUNTIF(Timesheet!$D$28:$D$34,"<0") +COUNTIF(Timesheet!$E$28:$E$34,"<0") +COUNTIF(Timesheet!$K$28:$K$34,"<0")>0, "Error "&$B$50&": "&$D$50, "") | D50: One or more hour entries are not numbers. Enter positive numbers.
B51: Warning End 3 | C51: =IF( OR($C$33<>"",$C$43<>""), $D$51, "" ) | D51: ⚠️ Section 3 contains errors. Correct before continuing.
A54: Section 4
B55: Instruction for 4.1 | D55: →→ Complete only line 4.2.1
D56: Enter information for each workload period in section 4.2
D57: ←← Select Yes or No
B59: Note | C59: =IF(OR(Timesheet!$J$59<>Timesheet!$L$59, Timesheet!$M$59<>Timesheet!$O$59),$D$59, "") | D59: (!) Note: The reported hours exceeded the maximum possible hours. Eligible project hours have been reduced accordingly.
B60: 4.1 | C60: =IF( AND(Form_Start="",Workload_Fixed=""), "Error "&B60 &": "&$D$60, "" ) | D60: Indicate if workload changed during the reporting period.
B61: Char 4.2 - 4.5 | C61: =$C$62& IF(AND($C$62<>"",$C$65<>""),CHAR(10),"")& $C$65& IF(AND(OR($C$62<>"",$C$65<>""),$C$66<>""),CHAR(10),"")& $C$66& IF(AND(OR($C$62<>"",$C$65<>"",$C$66<>""),$C$67<>""),CHAR(10),"")& $C$67 | E61: Merges several error messages into one cell
B62: 4.2 | C62: =IF($C$63<>"",$C$63,$C$64)
B63: 4.2 if Yes | C63: =IF( AND( Workload_Fixed="Yes", Timesheet!$C$51=""), "Error "&$B$62&": "&$D$63, "") | D63: Enter the workload coefficient in line 4.2.1.
B64: 4.2 if No | C64: {=IF( AND( Workload_Fixed="No", OR( Timesheet!$C$51="", Timesheet!$C$52="", SUMPRODUCT( --(Timesheet!$C$52:$C$58=""), --(((Timesheet!$D$52:$D$58<>"")+(Timesheet!$J$52:$J$58<>"")+(Timesheet!$M$52:$M$58<>""))>0) )>0, AND(Timesheet!$C$53="",COUNTIF(Timesheet!$C$54:$C$58,"<>")>0), AND(Timesheet!$C$54="",COUNTIF(Timesheet!$C$55:$C$58,"<>")>0), AND(Timesheet!$C$55="",COUNTIF(Timesheet!$C$56:$C$58,"<>")>0), AND(Timesheet!$C$56="",COUNTIF(Timesheet!$C$57:$C$58,"<>")>0), AND(Timesheet!$C$57="",Timesheet!$C$58<>"") ) ), "Error "&$B$62&": "&$D$64, "" )} | D64: Enter the missing workload coefficient(s).
B65: 4.3 | C65: {=IF( AND( Workload_Fixed="No", SUMPRODUCT( --ISNUMBER(Timesheet!$C$52:$C$58), --ISNUMBER(Timesheet!$C$51:$C$57), --(Timesheet!$C$52:$C$58=Timesheet!$C$51:$C$57) )>0 ), "Error "&$B$65&": "&$D$65, "")} | D65: The workload coefficient is the same as in the preceding period. Remove the unnecessary period.
B66: 4.4 | C66: {=IF( AND( Workload_Fixed="No", OR( Timesheet!$D$52="", SUMPRODUCT( --(Timesheet!$D$52:$D$58=""), --(((Timesheet!$C$52:$C$58<>"")+(Timesheet!$J$52:$J$58<>"")+(Timesheet!$M$52:$M$58<>""))>0) )>0 ) ), "Error "&$B$66&": "&$D$66, "" )} | D66: Enter the missing workload start date(s).
B67: 4.5 | C67: =IF( Workload_Fixed<>"No", "", IF( OR( AND(ISNUMBER(Timesheet!$D$52),OR(Timesheet!$D$52<=Timesheet!$D$51,Timesheet!$D$52>True_End)), AND(ISNUMBER(Timesheet!$D$53),OR(Timesheet!$D$52="",AND(ISNUMBER(Timesheet!$D$52),Timesheet!$D$53<=Timesheet!$D$52),Timesheet!$D$53>True_End)), AND(ISNUMBER(Timesheet!$D$54),OR(Timesheet!$D$53="",AND(ISNUMBER(Timesheet!$D$53),Timesheet!$D$54<=Timesheet!$D$53),Timesheet!$D$54>True_End)), AND(ISNUMBER(Timesheet!$D$55),OR(Timesheet!$D$54="",AND(ISNUMBER(Timesheet!$D$54),Timesheet!$D$55<=Timesheet!$D$54),Timesheet!$D$55>True_End)), AND(ISNUMBER(Timesheet!$D$56),OR(Timesheet!$D$55="",AND(ISNUMBER(Timesheet!$D$55),Timesheet!$D$56<=Timesheet!$D$55),Timesheet!$D$56>True_End)), AND(ISNUMBER(Timesheet!$D$57),OR(Timesheet!$D$56="",AND(ISNUMBER(Timesheet!$D$56),Timesheet!$D$57<=Timesheet!$D$56),Timesheet!$D$57>True_End)), AND(ISNUMBER(Timesheet!$D$58),OR(Timesheet!$D$57="",AND(ISNUMBER(Timesheet!$D$57),Timesheet!$D$58<=Timesheet!$D$57),Timesheet!$D$58>True_End)) ), "Error "&$B$67&": "&$D$67, "" )) | D67: Workload start dates must be entered consecutively, in chronological order and within the employee’s working period.
B69: Char 4.6 - 4.9 | C69: =$C$70& IF(AND($C$70<>"",$C$73<>""),CHAR(10),"")& $C$73& IF(AND(OR($C$70<>"",$C$73<>""),$C$76<>""),CHAR(10),"")& $C$76& IF(AND(OR($C$70<>"",$C$73<>"",$C$76<>""),$C$79<>""),CHAR(10),"")& $C$79 | E69: Merges several error messages into one cell
B70: 4.6 | C70: {=IF( AND( Workload_Fixed="No", OR( IF( Position2="", Timesheet!$J$52="", AND(Timesheet!$J$52="",Timesheet!$M$52="") ), SUMPRODUCT( --(((Timesheet!$C$52:$C$58<>"")+(Timesheet!$D$52:$D$58<>""))>0), --IF(Position2="",Timesheet!$J$52:$J$58="",(Timesheet!$J$52:$J$58="")*(Timesheet!$M$52:$M$58="")) )>0, AND(COUNTA(Timesheet!$C$53,Timesheet!$D$53,Timesheet!$J$53,Timesheet!$M$53)=0,COUNTA(Timesheet!$C$54:$D$58,Timesheet!$J$54:$J$58,Timesheet!$M$54:$M$58)>0), AND(COUNTA(Timesheet!$C$54,Timesheet!$D$54,Timesheet!$J$54,Timesheet!$M$54)=0,COUNTA(Timesheet!$C$55:$D$58,Timesheet!$J$55:$J$58,Timesheet!$M$55:$M$58)>0), AND(COUNTA(Timesheet!$C$55,Timesheet!$D$55,Timesheet!$J$55,Timesheet!$M$55)=0,COUNTA(Timesheet!$C$56:$D$58,Timesheet!$J$56:$J$58,Timesheet!$M$56:$M$58)>0), AND(COUNTA(Timesheet!$C$56,Timesheet!$D$56,Timesheet!$J$56,Timesheet!$M$56)=0,COUNTA(Timesheet!$C$57:$D$58,Timesheet!$J$57:$J$58,Timesheet!$M$57:$M$58)>0), AND(COUNTA(Timesheet!$C$57,Timesheet!$D$57,Timesheet!$J$57,Timesheet!$M$57)=0,COUNTA(Timesheet!$C$58:$D$58,Timesheet!$J$58:$J$58,Timesheet!$M$58:$M$58)>0) ) ), "Error "&$B$70&": "&IF(Position2="",$D$71,$D$72), "" )}
B71: 4.6 if Position 1 | D71: Enter project hours for each active workload period.
B72: 4.6 if Position 1& 2 | D72: Enter project hours for at least one position in each active workload period.
B73: 4.7 | C73: =IF( AND( Workload_Fixed="No", IF( Position2="", Timesheet!$J$51<=0, OR(Timesheet!$J$51<0,Timesheet!$M$51<0,SUM(Timesheet!$J$51,Timesheet!$M$51)<=0) ) ), "Error "&$B$73&": "&$D$73&CHAR(10)&$D$74&Timesheet!$E$35& IF(Position2<>"",CHAR(10)&$D$75&Timesheet!$K$35,""), "" ) | D73: Project hours in line 4.2.1 must be greater than 0. Correct the hours entered in line(s) 4.2.2 and below so that their sum does not equal or exceed the total in Section 3:
D74: - for Position 1 –
D75: - for Position 2 –
B76: 4.8 | C76: =IF(OR($C$77<>"",$C$78<>""),"Error "&$B$76&": "&$D$76&" "&IF($C$77<>"",$C$77,$C$78),"") | D76: Delete the red entries from the inactive section before continuing:
B77: 4.8 if No | C77: =IF(AND(Workload_Fixed<>"No",COUNTA(Timesheet!$C$52:$D$58,Timesheet!$J$52:$J$58,Timesheet!$M$52:$M$58)>0),$D$77,"") | D77: - "No" is not selected in line 4.1, but information is entered in line(s) 4.2.2 or below.
B78: 4.8 if Position 2="" | C78: =IF(AND(Workload_Fixed="No",Position2="",COUNTA(Timesheet!$M$52:$M$58)>0),$D$78,"") | D78: - Position 2 (line 2.2) is empty, but related information is entered in Section 4.2.
B79: 4.9 | C79: =IF( OR($C$80<>"",$C$81<>"",$C$82<>""), "Error "&$B$79&": "&$D$79& IF($C$80<>"",CHAR(10)&$C$80,"")& IF($C$81<>"",CHAR(10)&$C$81,"")& IF($C$82<>"",CHAR(10)&$C$82,""), "" ) | D79: Correct the invalid values:
B80: 4.9 Coefficient | C80: {=IF( AND( OR(Workload_Fixed="Yes",Workload_Fixed="No"), OR( COUNTA(Timesheet!$C$51:$C$58)-COUNT(Timesheet!$C$51:$C$58)>0, SUMPRODUCT(--ISNUMBER(Timesheet!$C$51:$C$58),--(Timesheet!$C$51:$C$58<0.001))>0, SUMPRODUCT(--ISNUMBER(Timesheet!$C$51:$C$58),--(Timesheet!$C$51:$C$58>1))>0, SUMPRODUCT(--IFERROR( ABS(Timesheet!$C$51:$C$58-ROUND(Timesheet!$C$51:$C$58,3))>0.000000001, FALSE ))>0 ) ), $D$80, "" )} | D80: - One or more workload coefficients are invalid. Enter numbers from 0,001 to 1 using no more than three decimal places.
B81: 4.9 date | C81: {=IF( AND(Workload_Fixed="No", OR( COUNTA(Timesheet!$D$52:$D$58)-COUNT(Timesheet!$D$52:$D$58)>0, SUMPRODUCT(--ISNUMBER(Timesheet!$D$52:$D$58),--IFERROR( Timesheet!$D$52:$D$58<>INT(Timesheet!$D$52:$D$58), FALSE ))>0 ) ), $D$81, "" )} | D81: - One or more workload start dates are invalid. Enter valid dates using your PC's regional date format.
B82: 4.9 hours | C82: {=IF( AND(Workload_Fixed="No", OR( COUNTA(Timesheet!$J$52:$J$58)-COUNT(Timesheet!$J$52:$J$58)>0, SUMPRODUCT(--ISNUMBER(Timesheet!$J$52:$J$58),--(Timesheet!$J$52:$J$58<=0))>0, SUMPRODUCT(--IFERROR( ABS(Timesheet!$J$52:$J$58-ROUND(Timesheet!$J$52:$J$58,2))>0.000000001, FALSE ))>0, AND(Position2<>"", OR( COUNTA(Timesheet!$M$52:$M$58)-COUNT(Timesheet!$M$52:$M$58)>0, SUMPRODUCT(--ISNUMBER(Timesheet!$M$52:$M$58),--(Timesheet!$M$52:$M$58<=0))>0, SUMPRODUCT(--IFERROR( ABS(Timesheet!$M$52:$M$58-ROUND(Timesheet!$M$52:$M$58,2))>0.000000001, FALSE ))>0 ) ) ) ), $D$82, "" )} | D82: - One or more entered hour values are invalid. Enter positive numbers using no more than two decimal places.
B85: Warning End 4 | C85: =IF( OR( AND(Form_Start="",Workload_Fixed=""), $C$60<>"", $C$61<>"", $C$69<>""), $D$85, "" ) | D85: ⚠️ Section 4 contains errors. Correct before continuing.
A88: Section 5
B89: Char 5.1-5.2 | C89: =$C$90& IF(AND($C$90<>"",$C$91<>""),CHAR(10),"")& $C$91 | E89: Merges several error messages into one cell
B90: 5.1 | C90: =IF( AND( Form_Start="", OR( Timesheet!$E$77="", Timesheet!$F$77="", AND(Position2<>"",OR(Timesheet!$E$78="",Timesheet!$F$78="")) ) ), "Error "&$B$90&": "&$D$90, "") | D90: Complete all required information for each entered position.
B91: 5.2 | C91: =IF( OR($C$93<>"",$C$94<>""), "Error "&$B$91&": "&$D$91&$C$93&$C$94, "" ) | D91: Delete the red entries from the inactive section before continuing:
B93: 5.2 if period | C93: {=IF( OR( SUMPRODUCT( --(Timesheet!$G$76:$M$76=""), --(Timesheet!$G$77:$M$77<>"") )>0, AND( Position2<>"", SUMPRODUCT( --(Timesheet!$G$76:$M$76=""), --(Timesheet!$G$78:$M$78<>"") )>0 ) ), CHAR(10)&$D$93&Period_No&").", "")} | D93: - Previously reported hours are entered for the wrong period (the timesheet is for Period
B94: 5.2 if Position2= " " | C94: {=IF( AND( Position2="", SUMPRODUCT(--(Timesheet!$E$78:$O$78<>""))>0 ), CHAR(10)&$D$94, "" )} | D94: - Position 2 (line 2.2) is empty, but related information is entered in Section 5.
B95: Warning End 5 | C95: =IF( $C$89<>"", $D$95, "" ) | D95: ⚠️ Section 5 contains errors. Correct before continuing.
A98: Section 6
B99: 6.1 | C99: =IF(AND($C$100<>"", $C$101<>""),"Error "&$B$99& ": "& $D$99, IF(AND($C$100<>"", $C$101=""), "Error "&$B$99& ": "& $D$100, IF(AND($C$100="", $C$101<>""), "Error "&$B$99& ": "& $D$101, ""))) | D99: Provide information on shared position(s) in current and previous reporting periods.
B100: 6.1 shared position in current period | C100: =IF(AND(Sec_6="", OR(Timesheet!$J$15=lists!$L$2, Timesheet!$J$16=lists!$L$2)), $D$100, "") | D100: Provide information on shared position(s) in current reporting period.
B101: 6.2 Shared position in previous period(s) | C101: =IF(AND( Sec_6="", OR(Timesheet!$F$77=lists!$L$2, Timesheet!$F$78=lists!$L$2)), $D$101, "") | D101: Provide information on shared position(s) in previous reporting period(s).
B102: Warning End 6 | C102: =IF( $C$99<>"", $D$102, "" ) | D102: ⚠️ Section 6 contains errors. Correct before continuing.
