Workbook
Name Before_you_start: Instructions!$B$6
Name Colour_coding: Instructions!$B$51
Name Countries: lists!$F$2:$F$3
Name duration: lists!$B$2:$B$7
Name Duties: lists!$H$2:$H$4
Name DutiesIF: lists!$J$2:$J$4
Name Entering_data: Instructions!$B$39
Name Form_Completed_Message: error!$D$8
Name Form_Start: error!$C$9
Name H_Fin: lists!$T$4
Name H_LP_man: lists!$T$2
Name H_Other: lists!$T$5
Name H_PP_man: lists!$T$3
Name How_to_fill_in_the_form: Instructions!$B$22
Name YN: lists!$L$2:$L$3
Name YNif: lists!$N$2:$N$3
Name Peri_Duration: Timesheet!$G$7
Name Peri_End2: Timesheet!$AD$7
Name Peri_Start: Timesheet!$J$7
Name Peri_Start2: Timesheet!$AC$7
Name Period: lists!$A$2:$A$9
Name Period_No: Timesheet!$E$7
Name Pos1_duties: Timesheet!$H$15
Name Pos2_duties: Timesheet!$H$16
Name Position2: Timesheet!$D$16
Name PP: lists!$G$2:$G$11
Name Purpose_of_the_form: Instructions!$B$19
Name Sec_1: Timesheet!$E$6
Name Sec_2: Timesheet!$D$15
Name Sec_3: Timesheet!$D$30
Name Sec_4: Timesheet!$C$51
Name Sec_5: Timesheet!$E$77
Name Sec_6: Timesheet!$B$84
Name Sec_7: Timesheet!$B$89
Name Sec1_Error: error!$C$28
Name Sec2_Error: error!$C$29
Name Sec3_Error: error!$C$51
Name Sec4_Error: error!$C$85
Name Sec5_Error: error!$C$95
Name Sec6_Error: error!$C$102
Name True_End: Timesheet!$AD$18
Name True_Start: Timesheet!$AC$18
Name Workload_Fixed: Timesheet!$C$45

Sheet Instructions
B6: Before you start
B7: • | C7: This timesheet form is created in MS Excel. It includes automated calculations and checks, but it is not a fully programmed system. Please review all inputs manually before submission.
B8: • | C8: Use this form with Microsoft Excel 2007 or a later version.
B9: • | C9: If you notice any inconsistencies in the form, please inform us by email at
C10: ◦ | D10: latlit@varam.gov.lv
C11: or use the contacts available here:
C12: ◦ | D12: http://latlit.eu/contact-us
B19: Purpose of the form
B20: • | C20: This is the mandatory form for reporting the working time of persons who are using Standard scale of unit cost method defined by the Programme. Based on the entered data, the form automatically calculates the maximum eligible hours according to programme-specific restrictions (Manual Section 7.5.1 "CC1 Staff Costs").
B22: How to fill in the form
B23: General guidance
B24: 1. | C24: Complete a separate timesheet for each employee and each reporting period. The exception are Sections 5 (balance) and 6 (comments), where information from previous reporting periods and information about other employees working in the same position has to be provided.
B25: 2. | C25: Start from Section 1, complete the form sequentially and finish with Section 7. Many fields update automatically based on information entered in previous sections.
B26: 3. | C26: Use the navigation buttons at the top to move between sections, and check the form status for any errors before signing.
B27: 4. | C27: Always use a new template (do not update an old copy) to avoid errors.
B28: 5. | C28: This form is locked to ensure data integrity. Any attempt to alter its protection may be considered fraudulent activity.
B29: 6. | C29: After the employee completes the form, the employee's authorised supervisor (manager) must sign it with a secure electronic signature. Please save the document as an MS Excel file (.xlsx) and sign it in .edoc, .adoc, or .asice format.
C30: You may use the following or other platforms and tools:
C31: ◦ | D31: https://www.eparaksts.lv/en
C32: ◦ | D32: https://adoc.archyvai.lt
B34: If the employee worked in more than two positions during the reporting period:
B35: 1. | C35: A separate timesheet form must be completed for each position.
B36: 2. | C36: Relevant information must be provided in Section 6 (Comments).
B37: 3. | C37: Information on eligible hours per position in Sections 4.2, 4.3 and 5 is not valid. The number of eligible hours for each position must be calculated manually.
B39: Entering data
B40: Enter information manually whenever possible.
B41: (!) Do not paste entire cells, rows or columns. This may damage formulas or formatting.
B43: Copying and pasting text or numbers without formatting:
B44: Always double-click the destination cell before pasting, as shown below.
B45: ◦ Using the keyboard:
B46: Ctrl+C → Double-click the destination cell → Ctrl+V → Enter
B47: ◦ Using the mouse:
C48: 1) Copy the required text or number. 2) Double-click the destination cell. 3) Right-click the destination cell and select Paste.
B49: (!) Never enter formulas. Enter numbers only, as formulas may cause rounding errors.
B51: Meaning of colours
B52: • | C52: The form uses colour coding to distinguish fields requiring user input, automatically calculated fields and fields requiring attention.
B54: Yellow entry cells | F54: Fields in which information must be entered or selected. → Information should be entered only in yellow cells.
B55: Red error messages and red borders around yellow entry cells | F55: Information is missing, invalid or inconsistent. → Correct the relevant entries and make sure that no red error messages remain.
B56: Red text and light red cells | F56: Incorrect information has been entered in the field. → Check the error message and correct the entry.
B57: White result cells | F57: Information is calculated or displayed automatically.
...

Sheet Timesheet
C1: Status: | D1: =error!$C$6 -> [ ] Form is empty | I1: =error!$C$3
A3: Project timesheet | AC3: Helper formulas
B4: =Form_Start -> [ ] Start at Section 1, then complete the other sections sequentially
B5: 1. General information
B6: 1.1 | C6: Employee | D6: Name, surname: | AC6: Period start date | AD6: Period end date
B7: 1.2 | C7: Reporting period | D7: No.: | F7: Duration: | H7: months | I7: Start: | L7: End: | M7: =IF( Form_Start<>"", "", IF(AND(Peri_Duration<>"",Peri_Start<>""),$AD$7,"") ) | AB7: Period | AC7: =Peri_Start -> 0 | AD7: =IF(OR(Peri_Duration="",Peri_Start=""),0,EDATE(Peri_Start,Peri_Duration)-1) -> 0
B8: 1.3 | C8: Project | D8: ID: | F8: Acronym: | I8: Title:
B9: 1.4 | C9: Project partner | D9: PP number: | F9: Organisation:
B10: =error!$C$12 | H10: =error!$C$13
B12: 2. Employee position in the project
D13: Employee position | H13: Duties in the project | J13: Position was held by several employees during the reporting period1 | L13: Work in the project2 | P13: Employee worked the full reporting period
L14: Start | N14: End | AC14: True start | AD14: True end
B15: 2.1 | C15: Position 1: | P15: =IF( AND( IF($L15="", Peri_Start, $L15)<=Peri_Start, IF($N15="", $AD$7, $N15)>=$AD$7 ), "Yes", "No" ) -> Yes | AB15: P1 | AC15: =IF(OR($L15>Peri_End2, $L15="", AND($L15<Peri_Start, $L15<Peri_End2)),Peri_Start, $L$15) -> 0 | AD15: =IF(OR($N$15>$AD$7, $N$15=""),$AD$7, $N$15) -> 0
B16: 2.2 | C16: Position 2: | P16: =IF(Position2="", "", IF( AND( IF($L16="", Peri_Start, $L16)<=Peri_Start, IF($N16="", $AD$7, $N16)>=$AD$7 ), "Yes", "No" )) | AB16: P2 | AC16: =IF(Position2<>"", IF(OR($L16>Peri_End2, $L16="", AND($L16<Peri_Start, $L16<Peri_End2)),Peri_Start, $L$16), "") | AD16: =IF(Position2<>"", IF(OR($N$16>$AD$7, $N$16=""),$AD$7, $N$16), "")
B17: 1 If the position was held by several employees during the reporting period, provide information in Section 6 (Comments).
B18: 2 If the employee did not work the full reporting period, indicate the start and end dates of the work. Otherwise, leave empty. | AB18: Both | AC18: =IF($AC$16="", $AC$15, IF($AC$15<$AC$16, $AC$15, $AC$16)) -> 0 | AD18: =IF($AD$16="", $AD$15, IF($AD$15>$AD$16, $AD$15, $AD$16)) -> 0
B19: =error!$C$16 | K19: =error!$C$22
B20: =error!$C$27
B22: 3. Detailed project timesheet
B23: Month | D23: Total hours in the institution (including work in the project) | E23: Work in the project
E24: =IF($D$15="","",$C$15&" "&$D$15) | K24: =IF(Position2="","",$C$16&" "&Position2) | Q24: =IF(Position2="","", "Total hours in the project")
E25: Hours worked in the project | F25: Description of work performed in the reporting period | K25: =IF(Position2="", "", $E$25) | L25: =IF(Position2="", "", $F$25)
F26: =IF(Sec_2="","","Duties: "& $H$15) | L26: =IF(OR(Sec_2="", Position2=""),"","Duties: "& $H$16)
F27: =lists!$S$2 -> Provide description for each month with reported hours (including reference to project activity) | L27: =IF(Position2="", "", lists!$S$3) | AB27: Period months both
B28: =IF($C28<>"", "3."& $AB28, "") | C28: =IF(OR(Peri_Duration="", Peri_Start=""), "", TEXT(+DATE(YEAR($AC28), MONTH($AC28), 1),"[$-en-GB]mmmm yyyy")) | Q28: =IF(Position2="","",SUM($E28,$K28)) | AB28: 1 | AC28: =DATE(YEAR(True_Start), MONTH(True_Start), 1) -> 1 | AD28: =EOMONTH($AC$28,0) -> 31
B29: =IF($C29<>"", "3."& $AB29, "") | C29: =IF(OR(Peri_Duration="", Peri_Start=""), "", IFERROR( TEXT(DATE(YEAR($AC29), MONTH($AC29), 1),"[$-en-GB]mmmm yyyy"), "")) | Q29: =IF(Position2="","",SUM($E29,$K29)) | AB29: 2 | AC29: =IF($AC28="", "", IF(EDATE($AC28, 1)<Peri_End2+1, EDATE($AC28, 1), "")) | AD29: =IF($AC$29="", "", EOMONTH($AC$29,0))
B30: =IF($C30<>"", "3."& $AB30, "") | C30: =IF(OR(Peri_Duration="", Peri_Start=""), "", IFERROR( TEXT(DATE(YEAR($AC30), MONTH($AC30), 1),"[$-en-GB]mmmm yyyy"), "")) | Q30: =IF(Position2="","",SUM($E30,$K30)) | AB30: 3 | AC30: =IF($AC29="", "", IF(EDATE($AC29, 1)<Peri_End2+1, EDATE($AC29, 1), "")) | AD30: =IF($AC$30="", "", EOMONTH($AC$30,0))
B31: =IF($C31<>"", "3."& $AB31, "") | C31: =IF(OR(Peri_Duration="", Peri_Start=""), "", IFERROR( TEXT(DATE(YEAR($AC31), MONTH($AC31), 1),"[$-en-GB]mmmm yyyy"), "")) | Q31: =IF(Position2="","",SUM($E31,$K31)) | AB31: 4 | AC31: =IF($AC30="", "", IF(EDATE($AC30, 1)<Peri_End2+1, EDATE($AC30, 1), "")) | AD31: =IF($AC$31="", "", EOMONTH($AC$31,0))
B32: =IF($C32<>"", "3."& $AB32, "") | C32: =IF(OR(Peri_Duration="", Peri_Start=""), "", IFERROR( TEXT(DATE(YEAR($AC32), MONTH($AC32), 1),"[$-en-GB]mmmm yyyy"), "")) | Q32: =IF(Position2="","",SUM($E32,$K32)) | AB32: 5 | AC32: =IF($AC31="", "", IF(EDATE($AC31, 1)<Peri_End2+1, EDATE($AC31, 1), "")) | AD32: =IF($AC$32="", "", EOMONTH($AC$32,0))
B33: =IF($C33<>"", "3."& $AB33, "") | C33: =IF(OR(Peri_Duration="", Peri_Start=""), "", IFERROR( TEXT(DATE(YEAR($AC33), MONTH($AC33), 1),"[$-en-GB]mmmm yyyy"), "")) | Q33: =IF(Position2="","",SUM($E33,$K33)) | AB33: 6 | AC33: =IF($AC32="", "", IF(EDATE($AC32, 1)<Peri_End2+1, EDATE($AC32, 1), "")) | AD33: =IF($AC$33="", "", EOMONTH($AC$33,0))
B34: =IF($C34<>"", "3."& $AB34, "") | C34: =IF(OR(Peri_Duration="", Peri_Start=""), "", IFERROR( TEXT(DATE(YEAR($AC34), MONTH($AC34), 1),"[$-en-GB]mmmm yyyy"), "")) | Q34: =IF(Position2="","",SUM($E34,$K34)) | AB34: 7 | AC34: =IF($AC33="", "", IF(EDATE($AC33, 1)<Peri_End2+1, EDATE($AC33, 1), "")) | AD34: =IF($AC$34="", "", EOMONTH($AC$34,0))
B35: 3. Total | D35: =SUM($D$28:$D$34) -> 0 | E35: =SUM($E$28:$E$34) -> 0 | K35: =IF(Position2="", 0, SUM($K$28:$K$34)) -> 0 | Q35: =IF(Position2="", 0, SUM($Q$28:$Q$34)) -> 0
B36: =error!$C$33 | K36: =error!$C$43
B37: =error!$C$51
B39: 4. Eligible hours during the reporting period for the employee
B40: =IF(OR(Peri_Start="", Peri_Duration=""), "", "for the period from "& TEXT(True_Start,"[$-en-GB]d mmmm yyyy") & " to "& TEXT(True_End,"[$-en-GB]d mmmm yyyy") )
B41: LP/PP cannot declare more than 1 720 hours per full time employee per year. PPs shall reduce this maximum number of hours to a pro-rata of 1 720 hours for employees working reporting periods shorter than 12 months. For a six-month period, a maximum of 860 hours will be allowed.
B42: 4.1 | C42: Workload change confirmation
C44: ="Did the employee’s workload coefficient in the institution remain unchanged during the Reporting Period "&Period_No& "?" -> Did the employee’s workload coefficient in the institution remain unchanged during the Reporting Period ?
D45: =IF(Workload_Fixed="Yes", error!$D$55, IF(Workload_Fixed="No", error!$D$56, error!$D$57)) -> ←← Select Yes or No | H45: =error!$C$60
...

Sheet lists
A1: Reporting period No. | B1: Duration of period | D1: Period start/end | F1: PP Countries | G1: PP position | H1: Duties for position | I1: Line 2.2 "Duties" | J1: Duties if Position 2 <>" " dependent drop-down | L1: Yes No | M1: Sharing position: Line 2.2 & Line 5.2 | N1: YNif Position 2 <>" " dependent drop-down | Q1: hours limits per period | R1: 3. Detailed timesheet On tasks/summary | S1: Formula | T1: message
A2: 1 | B2: 1 | C2: Start | D2: 45292 | F2: Lithuania | G2: LP | H2: Project management | I2: Project man | J2: =IF(Position2="", "", lists!$H2) | L2: Yes | M2: Y | N2: =IF(Position2="", "", lists!$L2) | P2: LP manager | Q2: 430 | R2: Position 1 Small admin hours | S2: =IF(AND(Pos1_duties=$H$2,Timesheet!$E$9=lists!$G$2),H_LP_man, IF(AND(Pos1_duties=$H$2,Timesheet!$E$9<>""),H_PP_man, IF(AND(Pos1_duties=$H$3,Timesheet!$E$9<>""),H_Fin, H_Other))) -> Provide description for each month with reported hours (including reference to project activity) | T2: IF ≤430 H: provide a summary in the first active field. IF >430 H: provide a description for each month with reported hours.
A3: 2 | B3: 2 | C3: End | D3: 47848 | F3: Latvia | G3: PP2 | H3: Financial manager | I3: Fin Man | J3: =IF(Position2="", "", lists!$H3) | L3: No | M3: N | N3: =IF(Position2="", "", lists!$L3) | P3: PP manager | Q3: 284 | R3: Position 2 Small admin hours | S3: =IF(AND(Pos2_duties=$H$2,Timesheet!$E$9=lists!$G$2),H_LP_man, IF(AND(Pos2_duties=$H$2,Timesheet!$E$9<>""),H_PP_man, IF(AND(Pos2_duties=$H$3,Timesheet!$E$9<>""),H_Fin, H_Other))) -> Provide description for each month with reported hours (including reference to project activity) | T3: IF ≤284 H: provide a summary in the first active field. IF >284 H: provide a description for each month with reported hours.
A4: 3 | B4: 3 | G4: PP3 | H4: Other | I4: N/A | J4: =IF(Position2="", "", lists!$H4) | P4: Financial manager | Q4: 215 | T4: IF ≤215 H: provide a summary in the first active field. IF >215 H: provide a description for each month with reported hours.
A5: 4 | B5: 4 | G5: PP4 | P5: Other | T5: Provide description for each month with reported hours (including reference to project activity)
A6: 5 | B6: 5 | G6: PP5 | Q6: If the limits stated below are exceeded, PP shall present detailed
A7: 6 | B7: 6 | G7: PP6 | Q7: information about implemented duties and tasks for all reported working hours of the
A8: 7 | G8: PP7 | Q8: staff members, with the respective duties in timesheets:
A9: 8 | G9: PP8 | Q9: - LP project management duties – 430 hours per reporting period,
G10: PP9 | Q10: - PP project management duties per PP – 284 hours per reporting period,
G11: PP10 | Q11: - LP/PP financial manager duties – 215 hours per reporting period.

Sheet error
B1: Error No. | C1: Formula | D1: Error message | E1: Explanation
A2: Headers
B3: Form has errors | C3: =IF(OR(Sec1_Error<>"",Sec2_Error<>"",Sec3_Error<>"",Sec4_Error<>"",Sec5_Error<>"",Sec6_Error<>""), $D$3& IF((Sec1_Error<>"")+(Sec2_Error<>"")+(Sec3_Error<>"")+(Sec4_Error<>"")+(Sec5_Error<>"")+(Sec6_Error<>"")>1,$D$4,"")& " "&MID( IF(Sec1_Error<>"",$D$5&"1","")& IF(Sec2_Error<>"",$D$5&"2","")& IF(Sec3_Error<>"",$D$5&"3","")& IF(Sec4_Error<>"",$D$5&"4","")& IF(Sec5_Error<>"",$D$5&"5","")& IF(Sec6_Error<>"",$D$5&"6",""), LEN($D$5)+1,255 )&".", "" ) | D3: ⚠️ There are errors in Section
D4: s
D5: ,
B6: Form fill in | C6: =IF( Form_Start<>"", $D$6, IF($C$3<>"",$D$7,$D$8) ) -> [ ] Form is empty | D6: [ ] Form is empty
D7: [>] Filling in of form has started
D8: [OK] Form is completed and can be signed | E8: D8 = Form_Completed_Message
B9: Form start | C9: =IF( SUM( COUNTA(Sec_1,Period_No,Peri_Duration,Peri_Start,Timesheet!$E$8,Timesheet!$G$8,Timesheet!$J$8,Timesheet!$E$9,Timesheet!$G$9), COUNTA(Sec_2,Pos1_duties,Timesheet!$J$15,Timesheet!$L$15,Timesheet!$N$15,Position2,Pos2_duties,Timesheet!$J$16,Timesheet!$L$16,Timesheet!$N$16), COUNTA(Timesheet!$D$28:$F$34,Timesheet!$K$28:$L$34), COUNTA(Workload_Fixed,Timesheet!$C$51:$C$58,Timesheet!$D$52:$D$58,Timesheet!$J$52:$J$58,Timesheet!$M$52:$M$58), COUNTA(Sec_5,Timesheet!$F$77:$M$77,Timesheet!$E$78:$M$78), COUNTA(Timesheet!$B$84:$Q$84), COUNTA(Timesheet!$B$89:$Q$89) )=0, $D$9, "") -> [ ] Start at Section 1, then complete the other sections sequentially | D9: [ ] Start at Section 1, then complete the other sections sequentially
A11: Section 1
B12: 1.1 | C12: =IF(OR(Form_Start<>"", AND(Timesheet!$E$6<>"", Period_No<>"", Peri_Duration<>"", Peri_Start<>"", Timesheet!$E$8<>"", Timesheet!$G$8<>"", Timesheet!$J$8<>"", Timesheet!$E$9<>"", Timesheet!$G$9<>"")), "", "Error "&$B$12&": "&$D$12) | D12: Complete all mandatory fields in Section 1.
B13: 1.2 | C13: =IF(OR(Form_Start<>"", AND(Period_No<>"", Peri_Duration<>"", Peri_Start<>"", Timesheet!$E$9<>"")), "", "Critical error "&$B$13&": "&$D$13) | D13: Complete all fields in line 1.2 and PP number. Information is required for calculations in the following sections!
A15: Section 2
B16: Char 2.1-2.3 | C16: =$C$17& IF(AND($C$17<>"",$C$20<>""),CHAR(10),"")& $C$20& IF(AND(OR($C$17<>"",$C$20<>""),$C$21<>""),CHAR(10),"")& $C$21 | E16: Merges several error messages into one cell
B17: 2.1 | C17: =IF(Form_Start<>"","",IF( AND( OR(Timesheet!$D$15="",Timesheet!$H$15="",Timesheet!$J$15=""), AND(Position2<>"",OR(Timesheet!$H$16="",Timesheet!$J$16="")) ), "Error "&$B$17&": "& $D$17, IF( OR(Timesheet!$D$15="",Timesheet!$H$15="",Timesheet!$J$15=""), "Error "&$B$17&": "& $D$18, IF( AND(Position2<>"",OR(Timesheet!$H$16="",Timesheet!$J$16="")), "Error "&$B$17&": "& $D$19, "" )))) | D17: Complete all mandatory fields for Position 1 (line 2.1) and Position 2 (line 2.2).
D18: Complete all mandatory fields for Position 1 (line 2.1).
D19: Complete all mandatory fields for Position 2 (line 2.2).
B20: 2.2 | C20: =IF(AND(OR(Timesheet!$D$15="",Timesheet!$H$15="", Timesheet!$J$15 =""), OR(Position2<>"",Timesheet!$H$16<>"",Timesheet!$J$16<>"", Timesheet!$L$16<>"", Timesheet!$N$16<>"")), "Error "&$B$20&": "&$D$20,"") | D20: Complete Position 1 (line 2.1) before entering Position 2.
B21: 2.3 | C21: =IF(AND(Position2="", OR(Timesheet!$H$16<>"",Timesheet!$J$16<>"",Timesheet!$L$16<>"",Timesheet!$N$16<>"")), "Error "&$B$21&": "&$D$21, "") | D21: Enter title for Position 2, or delete the red entries from the inactive section before continuing (line 2.2).
B22: Char 2.4-2.6 | C22: =$C$24& IF(AND($C$24<>"",$C$25<>""),CHAR(10),"")& $C$25& IF(AND(OR($C$24<>"",$C$25<>""),$C$26<>""),CHAR(10),"")& $C$26 | E22: Merges several error messages into one cell
B24: 2.4 | C24: =IF(OR(Peri_Duration="",Peri_Start=""),"", IF( OR( AND(Timesheet!$N15<>"",IF(Timesheet!$L15="",Peri_Start,Timesheet!$L15)>Timesheet!$N15), AND(Timesheet!$N16<>"",IF(Timesheet!$L16="",Peri_Start,Timesheet!$L16)>Timesheet!$N16) ), "Error "&$B$24&": "&$D$24, "" )) | D24: The work start date must not be later than the work end date.
B25: 2.5 | C25: =IF( OR( Timesheet!$L$15>Timesheet!$AD$7, Timesheet!$L$16>Timesheet!$AD$7), "Error "& $B25& ": "& $D25, "") | D25: The work start date is after the end of the reporting period (check line 1.2).
B26: 2.6 | C26: =IF( OR( AND(Timesheet!$N$15<>"", Timesheet!$N$15<Peri_Start), AND(Timesheet!$N$16<>"", Timesheet!$N$16<Peri_Start )), "Error "& $B26& ": "& $D26, "") | D26: The work end date is before the start of the reporting period (check line 1.2).
B27: Warning End 2 | C27: =IF(AND(Sec1_Error<>"",Sec2_Error<>""),$D$27, IF(Sec1_Error<>"",Sec1_Error, IF(Sec2_Error<>"",Sec2_Error,""))) | D27: ⚠️ Sections 1 and 2 contain errors. Correct before continuing.
C28: =IF(OR($C$12<>"", $C$13<>""), $D$28, "") | D28: ⚠️ Section 1 contains errors. Correct before continuing.
C29: =IF(OR($C$16<>"", $C$22<>""), $D$29, "") | D29: ⚠️ Section 2 contains errors. Correct before continuing.
A32: Section 3
B33: Char 3.1 - 3.3 | C33: =$C$34& IF(AND($C$34<>"",$C$37<>""),CHAR(10),"")& $C$37& IF(AND(OR($C$34<>"",$C$37<>""),$C$38<>""),CHAR(10),"")& $C$38 | E33: Merges several error messages into one cell
B34: 3.1 | C34: =IF(AND($C$35<>"",$C$36<>""),"Error "&$B$34&": "&$D$34, IF($C$35<>"","Error "&$B$34&": "&$D$35, IF($C$36<>"","Error "&$B$34&": "&$D$36,""))) | D34: Enter project hours for Positions 1 and 2.
B35: 3.1 Position 1 | C35: {=IF(AND(Form_Start="",SUMPRODUCT(--ISNUMBER(Timesheet!$E$28:$E$34),--(Timesheet!$E$28:$E$34>0))=0),1,"")} | D35: Enter project hours for Position 1.
B36: 3.1 Position 2 | C36: {=IF(AND(Form_Start="",Position2<>"",SUMPRODUCT(--ISNUMBER(Timesheet!$K$28:$K$34),--(Timesheet!$K$28:$K$34>0))=0),1,"")} | D36: Enter project hours for Position 2.
B37: 3.2 | C37: {=IF( SUMPRODUCT( --(((Timesheet!$D$28:$D$34="")+ISNUMBER(Timesheet!$D$28:$D$34))>0), --((IFERROR(Timesheet!$E$28:$E$34*1,0)+IFERROR(Timesheet!$K$28:$K$34*1,0))>IFERROR(Timesheet!$D$28:$D$34*1,0)) )>0, "Error "&$B$37&": "&$D$37, "" )} | D37: The total hours worked in the institution cannot be less than the total hours worked in the project.
B38: 3.3 | C38: =IF( OR($C$39<>"",$C$40<>"",$C$41<>"", $C$42<>""), "Error "&$B$38&": "&$D$38&$C$39&$C$40&$C$41&$C$42, "") | D38: Delete the red entries from the inactive section before continuing:
B39: 3.3 if wrong period Position 1 | C39: =IF( OR( AND(COUNTIF(Timesheet!$E28:$J28,"<>")>0,OR(Timesheet!$AD$15<Timesheet!$AC28,Timesheet!$AC$15>Timesheet!$AD28)), AND(COUNTIF(Timesheet!$E29:$J29,"<>")>0,OR(Timesheet!$AD$15<Timesheet!$AC29,Timesheet!$AC$15>Timesheet!$AD29)), AND(COUNTIF(Timesheet!$E30:$J30,"<>")>0,OR(Timesheet!$AD$15<Timesheet!$AC30,Timesheet!$AC$15>Timesheet!$AD30)), AND(COUNTIF(Timesheet!$E31:$J31,"<>")>0,OR(Timesheet!$AD$15<Timesheet!$AC31,Timesheet!$AC$15>Timesheet!$AD31)), AND(COUNTIF(Timesheet!$E32:$J32,"<>")>0,OR(Timesheet!$AD$15<Timesheet!$AC32,Timesheet!$AC$15>Timesheet!$AD32)), AND(COUNTIF(Timesheet!$E33:$J33,"<>")>0,OR(Timesheet!$AD$15<Timesheet!$AC33,Timesheet!$AC$15>Timesheet!$AD33)), AND(COUNTIF(Timesheet!$E34:$J34,"<>")>0,OR(Timesheet!$AD$15<Timesheet!$AC34,Timesheet!$AC$15>Timesheet!$AD34)) ), CHAR(10)&$D$39, "") | D39: - Information for Position 1 is entered outside reporting period / work in project (check lines 1.2 and 2.1).
B40: 3.3 if wrong period Position 2 | C40: =IF( AND( Position2<>"", OR( AND(COUNTIF(Timesheet!$K28:$P28,"<>")>0,OR(Timesheet!$AD$16<Timesheet!$AC28,Timesheet!$AC$16>Timesheet!$AD28)), AND(COUNTIF(Timesheet!$K29:$P29,"<>")>0,OR(Timesheet!$AD$16<Timesheet!$AC29,Timesheet!$AC$16>Timesheet!$AD29)), AND(COUNTIF(Timesheet!$K30:$P30,"<>")>0,OR(Timesheet!$AD$16<Timesheet!$AC30,Timesheet!$AC$16>Timesheet!$AD30)), AND(COUNTIF(Timesheet!$K31:$P31,"<>")>0,OR(Timesheet!$AD$16<Timesheet!$AC31,Timesheet!$AC$16>Timesheet!$AD31)), AND(COUNTIF(Timesheet!$K32:$P32,"<>")>0,OR(Timesheet!$AD$16<Timesheet!$AC32,Timesheet!$AC$16>Timesheet!$AD32)), AND(COUNTIF(Timesheet!$K33:$P33,"<>")>0,OR(Timesheet!$AD$16<Timesheet!$AC33,Timesheet!$AC$16>Timesheet!$AD33)), AND(COUNTIF(Timesheet!$K34:$P34,"<>")>0,OR(Timesheet!$AD$16<Timesheet!$AC34,Timesheet!$AC$16>Timesheet!$AD34)) ) ), CHAR(10)&$D$40, "") | D40: - Information for Position 2 is entered outside reporting period / work in project (check lines 1.2 and 2.2).
B41: 3.3 if wrong period total institution | C41: {=IF( SUMPRODUCT( --(Timesheet!$D$28:$D$34<>""), --(Timesheet!$C$28:$C$34="") )>0, CHAR(10)&$D$41, "" )} | D41: - Total hours in the institution are entered outside the reporting period.
B42: 3.3 If Position2 = " " | C42: =IF( AND( Position2="", COUNTIF(Timesheet!$K$28:$P$34,"<>")>0 ), CHAR(10)&$D$42, "") | D42: - Position 2 (line 2.2) is empty, but related information is entered in Section 3.
B43: Char 3.4 - 3.6 | C43: =$C$44& IF(AND($C$44<>"",$C$47<>""),CHAR(10),"")& $C$47& IF(AND(OR($C$44<>"",$C$47<>""),$C$50<>""),CHAR(10),"")& $C$50
B44: 3.4 | C44: =IF(AND($C$45<>"",$C$46<>""),"Error "&$B$44&": "&$D$44, IF($C$45<>"",$C$45, IF($C$46<>"",$C$46,""))) | D44: Provide a work summary for Positions 1 and 2 if the applicable hours limits are not exceeded.
C45: =IF( AND(Timesheet!$E$35>0, OR(AND(Timesheet!$F$27=H_LP_man,Timesheet!$E$35<=430), AND(Timesheet!$F$27=H_PP_man,Timesheet!$E$35<=284), AND(Timesheet!$F$27=H_Fin,Timesheet!$E$35<=215)), COUNTIF(Timesheet!$F$28:$F$34,"<>")=0), "Error "&$B$44&": "&$D$45, "") | D45: Provide a work summary for Position 1 if the applicable hours limits are not exceeded.
...
